BEGIN:VCALENDAR
VERSION:2.0
PRODID:-//Tukios.com/
BEGIN:VEVENT
UID:05a8da7c-5bdf-43e0-b61d-e830c6e73c24@www.koldenfuneralhome.com
DTSTAMP:20260421T235506Z
DTSTART:20260511T153000Z
DTEND:20260511T163000Z
SUMMARY:Memorial Mass
DESCRIPTION:
URL:https://www.koldenfuneralhome.com/obituaries/mark-fisher
LOCATION: 200 East Church Street  Belle Plaine MN 56011
GEO:44.6244313;-93.7663344
END:VEVENT
END:VCALENDAR