BEGIN:VCALENDAR
VERSION:2.0
PRODID:-//Tukios.com/
BEGIN:VEVENT
UID:35e073a9-39f2-4aef-ae94-e168621fd9ca@www.koldenfuneralhome.com
DTSTAMP:20260421T235506Z
DTSTART:20260511T143000Z
DTEND:20260511T153000Z
SUMMARY:Visitation
DESCRIPTION:
URL:https://www.koldenfuneralhome.com/obituaries/mark-fisher
LOCATION: 200 East Church Street  Belle Plaine MN 56011
GEO:44.6244313;-93.7663344
END:VEVENT
END:VCALENDAR