BEGIN:VCALENDAR
VERSION:2.0
PRODID:-//Tukios.com/
BEGIN:VEVENT
UID:9d623fa4-e3cf-41ba-b999-741af4e9f4a6@www.koldenfuneralhome.com
DTSTAMP:20260421T000729Z
DTSTART:20260501T140000Z
DTEND:20260501T160000Z
SUMMARY:Visitation
DESCRIPTION:
URL:https://www.koldenfuneralhome.com/obituaries/robert-ruehling
LOCATION:St. John Lutheran Church 148 South Chestnut Street  Belle Plaine 
	MN 56011
GEO:44.621109;-93.767187
END:VEVENT
END:VCALENDAR