BEGIN:VCALENDAR
VERSION:2.0
PRODID:-//Tukios.com/
BEGIN:VEVENT
UID:cb3f6b6a-ac73-48f1-b337-bb9112c34640@www.koldenfuneralhome.com
DTSTAMP:20260421T000551Z
DTSTART:20260501T160000Z
DTEND:20260501T170000Z
SUMMARY:Memorial Service
DESCRIPTION:
URL:https://www.koldenfuneralhome.com/obituaries/robert-ruehling
LOCATION:St. John Lutheran Church 148 South Chestnut Street  Belle Plaine 
	MN 56011
GEO:44.621109;-93.767187
END:VEVENT
END:VCALENDAR